BEGIN:VCALENDAR
VERSION:2.0
PRODID:-//Abundant Montana - ECPv6.15.15//NONSGML v1.0//EN
CALSCALE:GREGORIAN
METHOD:PUBLISH
X-WR-CALNAME:Abundant Montana
X-ORIGINAL-URL:https://abundantmontana.com
X-WR-CALDESC:Events for Abundant Montana
REFRESH-INTERVAL;VALUE=DURATION:PT1H
X-Robots-Tag:noindex
X-PUBLISHED-TTL:PT1H
BEGIN:VTIMEZONE
TZID:America/Denver
BEGIN:DAYLIGHT
TZOFFSETFROM:-0700
TZOFFSETTO:-0600
TZNAME:MDT
DTSTART:20250309T090000
END:DAYLIGHT
BEGIN:STANDARD
TZOFFSETFROM:-0600
TZOFFSETTO:-0700
TZNAME:MST
DTSTART:20251102T080000
END:STANDARD
BEGIN:DAYLIGHT
TZOFFSETFROM:-0700
TZOFFSETTO:-0600
TZNAME:MDT
DTSTART:20260308T090000
END:DAYLIGHT
BEGIN:STANDARD
TZOFFSETFROM:-0600
TZOFFSETTO:-0700
TZNAME:MST
DTSTART:20261101T080000
END:STANDARD
BEGIN:DAYLIGHT
TZOFFSETFROM:-0700
TZOFFSETTO:-0600
TZNAME:MDT
DTSTART:20270314T090000
END:DAYLIGHT
BEGIN:STANDARD
TZOFFSETFROM:-0600
TZOFFSETTO:-0700
TZNAME:MST
DTSTART:20271107T080000
END:STANDARD
END:VTIMEZONE
BEGIN:VEVENT
DTSTART;TZID=America/Denver:20260421T060000
DTEND;TZID=America/Denver:20260421T203000
DTSTAMP:20260421T090248
CREATED:20260331T032533Z
LAST-MODIFIED:20260331T032533Z
UID:24993-1776751200-1776803400@abundantmontana.com
SUMMARY:Master Gardener Spring Course
DESCRIPTION:The Master Gardener course is a volunteer training program\, not a general gardening class. It is designed for individuals who wish to become certified volunteers with Missoula County Extension and serve as an educational resource in our community. Master Gardeners act as an extension of Extension’s horticulture programs by sharing research-based gardening information with the public. \n2026 Master Gardener Training Details \nDates: April 7\, 14\, 21\, 28; May 5\, 12\, 19\, 26; and June 2\, 2026 \nDay & Time: Tuesday evenings\, 6:00–8:30 p.m. \nLocation:\nThe Exploration Center\n1075 South Ave W\nMissoula\, MT \nThe training runs 9 weeks\, with weekly classes lasting approximately 2.5 hours. Participants receive instruction from Extension staff and local experts on a wide range of gardening topics relevant to Montana. Cost is $250 includes book and lab supplies \nTopics \n\nIntroduction to the Master Gardener Program / Volunteer opportunities\nGardening in Western Montana Climates\nNatives & Pollinators\nPlant Sciences & Botany Basics\nSoil Health\, Fertility\, & Nutrients\nCompost\, Weeds & Wildlife\nVegetables\nAnnual & Perennial Flowers\nIntegrated Pest Management / Plant Clinic\nOrnamental Tree Care: Planting\, Maintenance & Pruning\nFruit and Berry Production
URL:https://abundantmontana.com/event/master-gardener-spring-course-2/
LOCATION:Missoula County Department of Ecology and Extension\, 1075 South Avenue West\, Missoula\, MT\, 59801\, United States
CATEGORIES:Western Montana
ATTACH;FMTTYPE=image/webp:https://abundantmontana.com/wp-content/uploads/2026/03/master-gardener-class-scaled-e1774927330530.webp
END:VEVENT
BEGIN:VEVENT
DTSTART;TZID=America/Denver:20260421T080000
DTEND;TZID=America/Denver:20260421T170000
DTSTAMP:20260421T090248
CREATED:20260330T163600Z
LAST-MODIFIED:20260401T141413Z
UID:25075-1776758400-1776790800@abundantmontana.com
SUMMARY:Grant Writing 101: From Readiness to Results
DESCRIPTION:It’s time to get signed up! \nWhether you are a community leader\, aspiring grantwriter\, or you work for a nonprofit or cooperative who could benefit from some grant funding\, here’s a fantastic opportunity to learn from two of the best in our state.This event will be held at the Hampton Inn in Great Falls on April 21st\, with an optional Drafting Lab and Shared Workspace on April 22nd. \nRoom block at the Hampton Inn is available for participants.
URL:https://abundantmontana.com/event/grant-writing-101-from-readiness-to-results/
LOCATION:Hampton Inn Great Falls\, 2301 14th St SW\, Great Falls\, MT\, 59404\, United States
CATEGORIES:Central Montana
ATTACH;FMTTYPE=image/jpeg:https://abundantmontana.com/wp-content/uploads/2026/03/Grant-writing-101-e1774879609429.jpg
END:VEVENT
BEGIN:VEVENT
DTSTART;TZID=America/Denver:20260421T113000
DTEND;TZID=America/Denver:20260421T133000
DTSTAMP:20260421T090248
CREATED:20260331T035614Z
LAST-MODIFIED:20260331T035614Z
UID:24969-1776771000-1776778200@abundantmontana.com
SUMMARY:Food Smarts Cooking and Healthy Eating Classes
DESCRIPTION:Join Arlee Community Development Corporation for “Food Smarts\,” a series of six fun classes on Tuesdays from 11:30 AM to 1:30 PM from April 7th to May 19th. Students will learn quick\, simple ways to make healthy\, family-friendly and budget-friendly meals. Attend all six classes and take home a free multi-cooker. Space is limited\, so reserve your spot by calling 406-883-2865 or email havilah.burton@montana.edu.
URL:https://abundantmontana.com/event/food-smarts-cooking-and-healthy-eating-classes-2/
LOCATION:Arlee Community Development Corporation\, 92555 US-93\, Arlee\, MT\, 59821\, United States
CATEGORIES:Northwest Montana
ATTACH;FMTTYPE=image/jpeg:https://abundantmontana.com/wp-content/uploads/2026/03/food-smarts-e1774929294982.jpg
END:VEVENT
END:VCALENDAR